BEGIN:VCALENDAR
VERSION:2.0
BEGIN:VEVENT
DTSTART;TZID=Europe/Stockholm:20240130T183000
DTEND;TZID=Europe/Stockholm:20240130T193000
DTSTAMP:20260423T105304
DESCRIPTION:Ta med eget fikabröd!
SEQUENCE:0
SUMMARY:Stickcafé i Ankaret
UID:8935@lawebb.se
END:VEVENT
END:VCALENDAR