BEGIN:VCALENDAR
VERSION:2.0
BEGIN:VEVENT
DTSTART;TZID=Europe/Stockholm:20240214T190000
DTEND;TZID=Europe/Stockholm:20240214T200000
DTSTAMP:20260421T202256
DESCRIPTION:
SEQUENCE:0
SUMMARY:Bibelstudie 📖 i Ankaret
UID:7855@lawebb.se
END:VEVENT
END:VCALENDAR