BEGIN:VCALENDAR
VERSION:2.0
BEGIN:VEVENT
DTSTART;TZID=Europe/Stockholm:20240228T190000
DTEND;TZID=Europe/Stockholm:20240228T200000
DTSTAMP:20260421T202614
DESCRIPTION:
SEQUENCE:0
SUMMARY:Bibelstudie 📖 i Ankaret
UID:8597@lawebb.se
END:VEVENT
END:VCALENDAR