BEGIN:VCALENDAR
VERSION:2.0
BEGIN:VEVENT
DTSTART;TZID=Europe/Stockholm:20240402T100000
DTEND;TZID=Europe/Stockholm:20240402T110000
DTSTAMP:20260421T170536
DESCRIPTION:
SEQUENCE:0
SUMMARY:Öppna Förskolan i Ankaret 👶🏼🧒🏽
UID:8495@lawebb.se
END:VEVENT
END:VCALENDAR