BEGIN:VCALENDAR
VERSION:2.0
BEGIN:VEVENT
DTSTART;TZID=Europe/Stockholm:20240423T183000
DTEND;TZID=Europe/Stockholm:20240423T193000
DTSTAMP:20260421T170422
DESCRIPTION:Ta med eget fikabröd!
SEQUENCE:0
SUMMARY:Stickcafé i Ankaret
UID:5486@lawebb.se
END:VEVENT
END:VCALENDAR