BEGIN:VCALENDAR
VERSION:2.0
BEGIN:VEVENT
DTSTART;TZID=Europe/Stockholm:20240430T100000
DTEND;TZID=Europe/Stockholm:20240430T110000
DTSTAMP:20260421T165757
DESCRIPTION:
SEQUENCE:0
SUMMARY:Öppna Förskolan i Ankaret 👶🏼🧒🏽
UID:5525@lawebb.se
END:VEVENT
END:VCALENDAR