BEGIN:VCALENDAR
VERSION:2.0
BEGIN:VEVENT
DTSTART;TZID=Europe/Stockholm:20240507T183000
DTEND;TZID=Europe/Stockholm:20240507T193000
DTSTAMP:20260421T151851
DESCRIPTION:Ta med eget fikabröd!
SEQUENCE:0
SUMMARY:Stickcafé i Ankaret
UID:8629@lawebb.se
END:VEVENT
END:VCALENDAR