BEGIN:VCALENDAR
VERSION:2.0
BEGIN:VEVENT
DTSTART;TZID=Europe/Stockholm:20240514T100000
DTEND;TZID=Europe/Stockholm:20240514T110000
DTSTAMP:20260421T151845
DESCRIPTION:
SEQUENCE:0
SUMMARY:Öppna Förskolan i Ankaret 👶🏼🧒🏽
UID:6252@lawebb.se
END:VEVENT
END:VCALENDAR