BEGIN:VCALENDAR
VERSION:2.0
BEGIN:VEVENT
DTSTART;TZID=Europe/Stockholm:20240521T100000
DTEND;TZID=Europe/Stockholm:20240521T110000
DTSTAMP:20260421T151949
DESCRIPTION:
SEQUENCE:0
SUMMARY:Öppna Förskolan i Ankaret 👶🏼🧒🏽
UID:2246@lawebb.se
END:VEVENT
END:VCALENDAR