BEGIN:VCALENDAR
VERSION:2.0
BEGIN:VEVENT
DTSTART;TZID=Europe/Stockholm:20240521T183000
DTEND;TZID=Europe/Stockholm:20240521T193000
DTSTAMP:20260421T151819
DESCRIPTION:Ta med eget fikabröd!
SEQUENCE:0
SUMMARY:Stickcafé i Ankaret
UID:2756@lawebb.se
END:VEVENT
END:VCALENDAR