BEGIN:VCALENDAR
VERSION:2.0
BEGIN:VEVENT
DTSTART;TZID=Europe/Stockholm:20240908T100000
DTEND;TZID=Europe/Stockholm:20240908T110000
DTSTAMP:20260421T120715
DESCRIPTION:
SEQUENCE:0
SUMMARY:Gudstjänst
UID:7964@lawebb.se
END:VEVENT
END:VCALENDAR