BEGIN:VCALENDAR
VERSION:2.0
BEGIN:VEVENT
DTSTART;TZID=Europe/Stockholm:20240911T190000
DTEND;TZID=Europe/Stockholm:20240911T200000
DTSTAMP:20260421T120737
DESCRIPTION:
SEQUENCE:0
SUMMARY:Bibelstudie 📖 i Ankaret
UID:2468@lawebb.se
END:VEVENT
END:VCALENDAR