BEGIN:VCALENDAR
VERSION:2.0
BEGIN:VEVENT
DTSTART;TZID=Europe/Stockholm:20240924T183000
DTEND;TZID=Europe/Stockholm:20240924T193000
DTSTAMP:20260421T120542
DESCRIPTION:Ta med eget fikabröd
SEQUENCE:0
SUMMARY:Stickcafé i Ankaret
UID:5444@lawebb.se
END:VEVENT
END:VCALENDAR