BEGIN:VCALENDAR
VERSION:2.0
BEGIN:VEVENT
DTSTART;TZID=Europe/Stockholm:20240925T190000
DTEND;TZID=Europe/Stockholm:20240925T200000
DTSTAMP:20260421T120400
DESCRIPTION:
SEQUENCE:0
SUMMARY:Bibelstudie 📖 i Ankaret
UID:3478@lawebb.se
END:VEVENT
END:VCALENDAR