BEGIN:VCALENDAR
VERSION:2.0
BEGIN:VEVENT
DTSTART;TZID=Europe/Stockholm:20241008T100000
DTEND;TZID=Europe/Stockholm:20241008T110000
DTSTAMP:20260423T105549
DESCRIPTION:
SEQUENCE:0
SUMMARY:Öppna förskolan i Ankaret 👶🏼🧒🏽
UID:4884@lawebb.se
END:VEVENT
END:VCALENDAR