BEGIN:VCALENDAR
VERSION:2.0
BEGIN:VEVENT
DTSTART;TZID=Europe/Stockholm:20241022T100000
DTEND;TZID=Europe/Stockholm:20241022T110000
DTSTAMP:20260421T110833
DESCRIPTION:
SEQUENCE:0
SUMMARY:Öppna förskolan i Ankaret 👶🏼🧒🏽
UID:7473@lawebb.se
END:VEVENT
END:VCALENDAR