BEGIN:VCALENDAR
VERSION:2.0
BEGIN:VEVENT
DTSTART;TZID=Europe/Stockholm:20241023T190000
DTEND;TZID=Europe/Stockholm:20241023T200000
DTSTAMP:20260419T152619
DESCRIPTION:
SEQUENCE:0
SUMMARY:Bibelstudie 📖 i Ankaret
UID:7846@lawebb.se
END:VEVENT
END:VCALENDAR