BEGIN:VCALENDAR
VERSION:2.0
BEGIN:VEVENT
DTSTART;TZID=Europe/Stockholm:20241105T100000
DTEND;TZID=Europe/Stockholm:20241105T110000
DTSTAMP:20260422T112342
DESCRIPTION:
SEQUENCE:0
SUMMARY:Öppna förskolan i Ankaret 👶🏼🧒🏽
UID:7326@lawebb.se
END:VEVENT
END:VCALENDAR