BEGIN:VCALENDAR
VERSION:2.0
BEGIN:VEVENT
DTSTART;TZID=Europe/Stockholm:20250306T183000
DTEND;TZID=Europe/Stockholm:20250306T193000
DTSTAMP:20260422T105834
DESCRIPTION:
SEQUENCE:0
SUMMARY:Alphakurs
UID:8649@lawebb.se
END:VEVENT
END:VCALENDAR