BEGIN:VCALENDAR
VERSION:2.0
BEGIN:VEVENT
DTSTART;TZID=Europe/Stockholm:20250309T100000
DTEND;TZID=Europe/Stockholm:20250309T110000
DTSTAMP:20260422T111406
DESCRIPTION:&#34;Dela evangeliet - tjänst vid borden&#34; (Apg 6:1-7)
Fredrik Lagerström m.fl.
#Kyrkkaffe#
SEQUENCE:0
SUMMARY:Gudstjänst med nattvard
UID:4452@lawebb.se
END:VEVENT
END:VCALENDAR