BEGIN:VCALENDAR
VERSION:2.0
BEGIN:VEVENT
DTSTART;TZID=Europe/Stockholm:20250318T100000
DTEND;TZID=Europe/Stockholm:20250318T110000
DTSTAMP:20260422T112519
DESCRIPTION:
SEQUENCE:0
SUMMARY:Öppna förskolan i Ankaret 👶🏼🧒🏽
UID:6442@lawebb.se
END:VEVENT
END:VCALENDAR