BEGIN:VCALENDAR
VERSION:2.0
BEGIN:VEVENT
DTSTART;TZID=Europe/Stockholm:20250320T183000
DTEND;TZID=Europe/Stockholm:20250320T193000
DTSTAMP:20260422T110850
DESCRIPTION:
SEQUENCE:0
SUMMARY:Alphakurs
UID:6277@lawebb.se
END:VEVENT
END:VCALENDAR