BEGIN:VCALENDAR
VERSION:2.0
BEGIN:VEVENT
DTSTART;TZID=Europe/Stockholm:20250326T180000
DTEND;TZID=Europe/Stockholm:20250326T190000
DTSTAMP:20260422T112436
DESCRIPTION:i Ankaret
SEQUENCE:0
SUMMARY:Planering av Påskvandring
UID:2648@lawebb.se
END:VEVENT
END:VCALENDAR