BEGIN:VCALENDAR
VERSION:2.0
BEGIN:VEVENT
DTSTART;TZID=Europe/Stockholm:20250327T183000
DTEND;TZID=Europe/Stockholm:20250327T193000
DTSTAMP:20260422T111744
DESCRIPTION:
SEQUENCE:0
SUMMARY:Alphakurs
UID:7989@lawebb.se
END:VEVENT
END:VCALENDAR