BEGIN:VCALENDAR
VERSION:2.0
BEGIN:VEVENT
DTSTART;TZID=Europe/Stockholm:20250327T110000
DTEND;TZID=Europe/Stockholm:20250327T120000
DTSTAMP:20260422T111817
DESCRIPTION:*i Ankaret*
Antonia Bengtsson
Kostnad 50 kr/pers. inkl. fika
SEQUENCE:0
SUMMARY:Dagledigträff med förmiddagskaffe
UID:8282@lawebb.se
END:VEVENT
END:VCALENDAR