BEGIN:VCALENDAR
VERSION:2.0
BEGIN:VEVENT
DTSTART;TZID=Europe/Stockholm:20250328T190000
DTEND;TZID=Europe/Stockholm:20250328T200000
DTSTAMP:20260420T145940
DESCRIPTION:19:00- 21:30
Från 7:an och uppåt
Schysst häng, aktiviteter, fika och gemenskap
SEQUENCE:0
SUMMARY:Snäckan/ Tonår i Ankaret
UID:4986@lawebb.se
END:VEVENT
END:VCALENDAR