BEGIN:VCALENDAR
VERSION:2.0
BEGIN:VEVENT
DTSTART;TZID=Europe/Stockholm:20250328T210000
DTEND;TZID=Europe/Stockholm:20250328T220000
DTSTAMP:20260422T111543
DESCRIPTION:❗️*OBS!* Samlingen är inställd! ❗️
tillsammans med RCCG
(Redeemed Christian Church of God Halmstad)
Skyttevägen 19
SEQUENCE:0
SUMMARY:Ekumenisk bön
UID:3798@lawebb.se
END:VEVENT
END:VCALENDAR