BEGIN:VCALENDAR
VERSION:2.0
BEGIN:VEVENT
DTSTART;TZID=Europe/Stockholm:20250330T100000
DTEND;TZID=Europe/Stockholm:20250330T110000
DTSTAMP:20260422T111722
DESCRIPTION:&#34;Då tog Barnabas hand om honom&#34; (Apg 9:26-28)
Fredrik Lagerström m.fl.
Sång av Christina Lindsmyr
#Kyrkkaffe#
SEQUENCE:0
SUMMARY:Gudstjänst - &#34;Göra lärjungar&#34;
UID:5779@lawebb.se
END:VEVENT
END:VCALENDAR