BEGIN:VCALENDAR
VERSION:2.0
BEGIN:VEVENT
DTSTART;TZID=Europe/Stockholm:20250513T100000
DTEND;TZID=Europe/Stockholm:20250513T110000
DTSTAMP:20260422T110220
DESCRIPTION:
SEQUENCE:0
SUMMARY:Öppna förskolan i Ankaret 👶🏼🧒🏽
UID:9297@lawebb.se
END:VEVENT
END:VCALENDAR