BEGIN:VCALENDAR
VERSION:2.0
BEGIN:VEVENT
DTSTART;TZID=Europe/Stockholm:20250525T100000
DTEND;TZID=Europe/Stockholm:20250525T110000
DTSTAMP:20260422T112256
DESCRIPTION:&#34;Avskilj Barnabas och Saulus åt mig för den uppgift som jag har kallat dem till&#34; (Apg 13:1-3) 
Fredrik Lagerström m.fl.
Sång av Ann-Marie Skölde
#Kyrkkaffe#
SEQUENCE:0
SUMMARY:Gudstjänst - Tema: &#34;Sända ledare&#34;
UID:6395@lawebb.se
END:VEVENT
END:VCALENDAR