BEGIN:VCALENDAR
VERSION:2.0
BEGIN:VEVENT
DTSTART;TZID=Europe/Stockholm:20250806T180000
DTEND;TZID=Europe/Stockholm:20250806T190000
DTSTAMP:20260422T150017
DESCRIPTION:Hos Fritzson, Dillvägen 4
Grillen hålls varm
Ta med något att grilla!
SEQUENCE:0
SUMMARY:Grillkväll
UID:4657@lawebb.se
END:VEVENT
END:VCALENDAR