BEGIN:VCALENDAR
VERSION:2.0
BEGIN:VEVENT
DTSTART;TZID=Europe/Stockholm:20250810T100000
DTEND;TZID=Europe/Stockholm:20250810T110000
DTSTAMP:20260422T145839
DESCRIPTION:Lars-Gunnar Jonsson m.fl.
#Kyrkkaffe#
SEQUENCE:0
SUMMARY:Gudstjänst
UID:8486@lawebb.se
END:VEVENT
END:VCALENDAR