BEGIN:VCALENDAR
VERSION:2.0
BEGIN:VEVENT
DTSTART;TZID=Europe/Stockholm:20250813T190000
DTEND;TZID=Europe/Stockholm:20250813T200000
DTSTAMP:20260422T145459
DESCRIPTION:tillsammans med Gemenskapslägret
Lotterier och våffelservering
SEQUENCE:0
SUMMARY:Paketauktion i restaurangen
UID:4952@lawebb.se
END:VEVENT
END:VCALENDAR