BEGIN:VCALENDAR
VERSION:2.0
BEGIN:VEVENT
DTSTART;TZID=Europe/Stockholm:20250817T100000
DTEND;TZID=Europe/Stockholm:20250817T110000
DTSTAMP:20260422T150113
DESCRIPTION:*i det Halländska landskapet till Långeby dalar*
Kl. 10.00 Start vid Gullbrannagården
Kl. 11:00 Andakt i Långeby dalar *Även för dig som inte cyklar!*
Ta med egen fika!
SEQUENCE:0
SUMMARY:Cykelutflykt med Gudstjänst
UID:3636@lawebb.se
END:VEVENT
END:VCALENDAR