BEGIN:VCALENDAR
VERSION:2.0
BEGIN:VEVENT
DTSTART;TZID=Europe/Stockholm:20250824T140000
DTEND;TZID=Europe/Stockholm:20250824T150000
DTSTAMP:20260422T145806
DESCRIPTION:GRATIS entré!
Aktiviteter för stora och små!
Bl.a. Ansiktsmålning, boll i stege, A över bäcken, popcorn, såpbubblor, pinnbröd...
och glassboden har öppet!
Kl. 15:40 avslutar vi med ett litet lägerbål.
Platsen är runt lekplatsen bakom Gullbrannagårdens restaurang!
SEQUENCE:0
SUMMARY:Familjedag kl. 14 - 16
UID:6257@lawebb.se
END:VEVENT
END:VCALENDAR