BEGIN:VCALENDAR
VERSION:2.0
BEGIN:VEVENT
DTSTART;TZID=Europe/Stockholm:20250824T170000
DTEND;TZID=Europe/Stockholm:20250824T180000
DTSTAMP:20260422T150248
DESCRIPTION:
SEQUENCE:0
SUMMARY:Bön i Ankaret
UID:8646@lawebb.se
END:VEVENT
END:VCALENDAR