BEGIN:VCALENDAR
VERSION:2.0
BEGIN:VEVENT
DTSTART;TZID=Europe/Stockholm:20250907T100000
DTEND;TZID=Europe/Stockholm:20250907T110000
DTSTAMP:20260422T171906
DESCRIPTION:Tid: Söndag 7 september start kl 10.00 och slut ca 16.00.
Plats: Friluftsfrämjandets stuga i Hålehall på Hallandsåsens sydsluttning. 
|*Mer info*|Forsamlingsdag-2025b.pdf|
De som vill kan samåka från Gullbrannagårdens parkering kl 9.15.
*Anmälan senast 31/8* 
till Christina K: 070 271 05 02 eller via ||formuläret||https://forms.gle/bChtAghAr4ps1dVC8|| Tala om behov av specialkost.
SEQUENCE:0
SUMMARY:Gemenskapsdag
UID:7544@lawebb.se
END:VEVENT
END:VCALENDAR