BEGIN:VCALENDAR
VERSION:2.0
BEGIN:VEVENT
DTSTART;TZID=Europe/Stockholm:20250909T183000
DTEND;TZID=Europe/Stockholm:20250909T193000
DTSTAMP:20260422T172017
DESCRIPTION:Ta med eget fikabröd.
SEQUENCE:0
SUMMARY:Stickcafé i Ankaret
UID:3888@lawebb.se
END:VEVENT
END:VCALENDAR