BEGIN:VCALENDAR
VERSION:2.0
BEGIN:VEVENT
DTSTART;TZID=Europe/Stockholm:20250914T100000
DTEND;TZID=Europe/Stockholm:20250914T110000
DTSTAMP:20260422T172527
DESCRIPTION:*Tema: &#34;Be:känna&#34;* &#34;Om vi bekänner våra synder är Gud trofast och rättfärdig...&#34; (1 Joh 8-9) Fredrik Lagerström m.fl.
#Kyrkkaffe#
Därefter Församlingsmöte
SEQUENCE:0
SUMMARY:Gudstjänst med nattvard
UID:2433@lawebb.se
END:VEVENT
END:VCALENDAR