BEGIN:VCALENDAR
VERSION:2.0
BEGIN:VEVENT
DTSTART;TZID=Europe/Stockholm:20250915T170000
DTEND;TZID=Europe/Stockholm:20250915T180000
DTSTAMP:20260422T172332
DESCRIPTION:
SEQUENCE:0
SUMMARY:Storstädning av Ankaret
UID:7548@lawebb.se
END:VEVENT
END:VCALENDAR