BEGIN:VCALENDAR
VERSION:2.0
BEGIN:VEVENT
DTSTART;TZID=Europe/Stockholm:20250916T100000
DTEND;TZID=Europe/Stockholm:20250916T110000
DTSTAMP:20260422T172352
DESCRIPTION:
SEQUENCE:0
SUMMARY:Öppna förskolan i Ankaret 👶🏼🧒🏽
UID:4589@lawebb.se
END:VEVENT
END:VCALENDAR