BEGIN:VCALENDAR
VERSION:2.0
BEGIN:VEVENT
DTSTART;TZID=Europe/Stockholm:20250924T190000
DTEND;TZID=Europe/Stockholm:20250924T200000
DTSTAMP:20260422T172018
DESCRIPTION:
SEQUENCE:0
SUMMARY:Bibelstudie 📖 i Ankaret
UID:3958@lawebb.se
END:VEVENT
END:VCALENDAR