BEGIN:VCALENDAR
VERSION:2.0
BEGIN:VEVENT
DTSTART;TZID=Europe/Stockholm:20250928T100000
DTEND;TZID=Europe/Stockholm:20250928T110000
DTSTAMP:20260422T171845
DESCRIPTION:*Tema: &#34;Be:löna&#34;* &#34;Den som kommer till Gud måste tro att han finns och att han lönar dem som söker honom...&#34; (Heb 11:6) Fredrik Lagerström m.fl.
Sång av Erika Bergkvist
#Kyrkkaffe#
SEQUENCE:0
SUMMARY:Gudstjänst
UID:2999@lawebb.se
END:VEVENT
END:VCALENDAR