BEGIN:VCALENDAR
VERSION:2.0
BEGIN:VEVENT
DTSTART;TZID=Europe/Stockholm:20250930T100000
DTEND;TZID=Europe/Stockholm:20250930T110000
DTSTAMP:20260422T172148
DESCRIPTION:
SEQUENCE:0
SUMMARY:Öppna förskolan i Ankaret 👶🏼🧒🏽
UID:3696@lawebb.se
END:VEVENT
END:VCALENDAR