BEGIN:VCALENDAR
VERSION:2.0
BEGIN:VEVENT
DTSTART;TZID=Europe/Stockholm:20251005T100000
DTEND;TZID=Europe/Stockholm:20251005T110000
DTSTAMP:20260422T230233
DESCRIPTION:*Tema: &#34;Be:lysa&#34;* &#34;Ditt ord är mina fötters lykta och ljus på min stig&#34; (Ps 119:105) Fredrik Lagerström, Harald Fritzson
#Kyrkkaffe#
SEQUENCE:0
SUMMARY:Gudstjänst med nattvard
UID:6932@lawebb.se
END:VEVENT
END:VCALENDAR