BEGIN:VCALENDAR
VERSION:2.0
BEGIN:VEVENT
DTSTART;TZID=Europe/Stockholm:20251009T110000
DTEND;TZID=Europe/Stockholm:20251009T120000
DTSTAMP:20260422T230640
DESCRIPTION:*Tema: Vad kan AI hjälpa oss med - eller är det ett hot för oss?*
Hans-Erik Eldemark
Kostnad 50 kr/pers.
SEQUENCE:0
SUMMARY:Dagledigträff med förmiddagskaffe
UID:4964@lawebb.se
END:VEVENT
END:VCALENDAR