BEGIN:VCALENDAR
VERSION:2.0
BEGIN:VEVENT
DTSTART;TZID=Europe/Stockholm:20251012T170000
DTEND;TZID=Europe/Stockholm:20251012T180000
DTSTAMP:20260422T230222
DESCRIPTION:Välkommen på gudstjänst i Missionshuset. Enkel kvällsmat efteråt
SEQUENCE:0
SUMMARY:Gudstjänst i Laholm
UID:8656@lawebb.se
END:VEVENT
END:VCALENDAR