BEGIN:VCALENDAR
VERSION:2.0
BEGIN:VEVENT
DTSTART;TZID=Europe/Stockholm:20251017T190000
DTEND;TZID=Europe/Stockholm:20251017T200000
DTSTAMP:20260422T225911
DESCRIPTION:19:00- 21:30
Från 7:an och uppåt
Schysst häng, aktiviteter, fika och gemenskap
SEQUENCE:0
SUMMARY:Snäckan/ Tonår i Ankaret
UID:3933@lawebb.se
END:VEVENT
END:VCALENDAR