BEGIN:VCALENDAR
VERSION:2.0
BEGIN:VEVENT
DTSTART;TZID=Europe/Stockholm:20251019T100000
DTEND;TZID=Europe/Stockholm:20251019T110000
DTSTAMP:20260422T230607
DESCRIPTION:*Tema: &#34;Be:fria&#34;* &#34;Om nu Sonen gör er fria blir ni verkligen fria&#34; (Joh 8:36) Fredrik Lagerström m.fl.
Sång av Rolf Karlén
#Kyrkkaffe#
SEQUENCE:0
SUMMARY:Gudstjänst
UID:8434@lawebb.se
END:VEVENT
END:VCALENDAR