BEGIN:VCALENDAR
VERSION:2.0
BEGIN:VEVENT
DTSTART;TZID=Europe/Stockholm:20251022T190000
DTEND;TZID=Europe/Stockholm:20251022T200000
DTSTAMP:20260422T230250
DESCRIPTION:
SEQUENCE:0
SUMMARY:Bibelstudie 📖 i Ankaret
UID:4775@lawebb.se
END:VEVENT
END:VCALENDAR